BEGIN:VCALENDAR
VERSION:2.0
PRODID:-//CASL - Canadian Association for the Study of the Liver - ECPv6.15.20//NONSGML v1.0//EN
CALSCALE:GREGORIAN
METHOD:PUBLISH
X-ORIGINAL-URL:https://hepatology.ca/fr
X-WR-CALDESC:Événements pour CASL - Canadian Association for the Study of the Liver
REFRESH-INTERVAL;VALUE=DURATION:PT1H
X-Robots-Tag:noindex
X-PUBLISHED-TTL:PT1H
BEGIN:VTIMEZONE
TZID:America/Halifax
BEGIN:DAYLIGHT
TZOFFSETFROM:-0400
TZOFFSETTO:-0300
TZNAME:ADT
DTSTART:20230312T060000
END:DAYLIGHT
BEGIN:STANDARD
TZOFFSETFROM:-0300
TZOFFSETTO:-0400
TZNAME:AST
DTSTART:20231105T050000
END:STANDARD
BEGIN:DAYLIGHT
TZOFFSETFROM:-0400
TZOFFSETTO:-0300
TZNAME:ADT
DTSTART:20240310T060000
END:DAYLIGHT
BEGIN:STANDARD
TZOFFSETFROM:-0300
TZOFFSETTO:-0400
TZNAME:AST
DTSTART:20241103T050000
END:STANDARD
BEGIN:DAYLIGHT
TZOFFSETFROM:-0400
TZOFFSETTO:-0300
TZNAME:ADT
DTSTART:20250309T060000
END:DAYLIGHT
BEGIN:STANDARD
TZOFFSETFROM:-0300
TZOFFSETTO:-0400
TZNAME:AST
DTSTART:20251102T050000
END:STANDARD
END:VTIMEZONE
BEGIN:VTIMEZONE
TZID:UTC
BEGIN:STANDARD
TZOFFSETFROM:+0000
TZOFFSETTO:+0000
TZNAME:UTC
DTSTART:20230101T000000
END:STANDARD
END:VTIMEZONE
BEGIN:VEVENT
DTSTART;TZID=America/Halifax:20241018T110000
DTEND;TZID=America/Halifax:20241019T170000
DTSTAMP:20260423T094631
CREATED:20240608T164853Z
LAST-MODIFIED:20240608T164937Z
UID:3892-1729249200-1729357200@hepatology.ca
SUMMARY:ILCA 2024 Annual Conference
DESCRIPTION:The 18th edition of the ILCA Annual Conference will be held in conjunction with the Canadian Association for the Study of the Liver (CASL) Single Topic Conference on HCC on 17-19 October in Toronto\, Canada\, promising yet another enriching and impactful gathering for the liver cancer community. \nConnect with inspiring liver cancer specialists through exceptional education and pioneering insights. \nJoin us in Toronto to unite minds and transform the landscape of liver cancer treatment and care.
URL:https://hepatology.ca/fr/event/ilca-2024-annual-conference/
LOCATION:Hilton Toronto\, 145 Richmond Street West\, Toronto\, Ontario\, Canada
CATEGORIES:Endorsed by CASL
END:VEVENT
BEGIN:VEVENT
DTSTART;TZID=UTC:20241019T141500
DTEND;TZID=UTC:20241020T163000
DTSTAMP:20260423T094631
CREATED:20240608T163050Z
LAST-MODIFIED:20240608T163109Z
UID:3884-1729347300-1729441800@hepatology.ca
SUMMARY:CASL Single Topic Conference on HCC
DESCRIPTION:CASL is pleased to announce the Canadian Association for the Study of the Liver (CASL) Single Topic Conference on HCC. This prestigious event\, dedicated to the exploration of advancements in liver cancer research and treatment\, will be held in conjunction with the International Liver Cancer Association (ILCA) at the Hilton Toronto – 145 Richmond Street West in Toronto on October 19th and 20th\, 2024. \nMore information on the program\, registration and other details are available on the conference website.
URL:https://hepatology.ca/fr/event/casl-single-topic-conference-on-hcc/
LOCATION:Hilton Toronto\, 145 Richmond Street West\, Toronto\, Ontario\, Canada
CATEGORIES:CASL Events,In-Person
END:VEVENT
END:VCALENDAR