BEGIN:VCALENDAR
VERSION:2.0
PRODID:-//CASL - Canadian Association for the Study of the Liver - ECPv6.15.20//NONSGML v1.0//EN
CALSCALE:GREGORIAN
METHOD:PUBLISH
X-ORIGINAL-URL:https://hepatology.ca/fr
X-WR-CALDESC:Événements pour CASL - Canadian Association for the Study of the Liver
REFRESH-INTERVAL;VALUE=DURATION:PT1H
X-Robots-Tag:noindex
X-PUBLISHED-TTL:PT1H
BEGIN:VTIMEZONE
TZID:UTC
BEGIN:STANDARD
TZOFFSETFROM:+0000
TZOFFSETTO:+0000
TZNAME:UTC
DTSTART:20230101T000000
END:STANDARD
END:VTIMEZONE
BEGIN:VEVENT
DTSTART;VALUE=DATE:20241004
DTEND;VALUE=DATE:20241006
DTSTAMP:20260423T055136
CREATED:20240716T145549Z
LAST-MODIFIED:20240716T145549Z
UID:4134-1728000000-1728172799@hepatology.ca
SUMMARY:Canadian Multidisciplinary Hepatobiliary Cancer Conference
DESCRIPTION:The 3rd CANADIAN MULTIDISCIPLINARY HEPATOBILIARY CANCER CONFERENCE (CMHCC) is taking place on Friday October 4 and Saturday October 5th\, 2024 at the Omni King Edward Hotel in Toronto\, Ontario\, Canada. \n \nThis informative conference provides a unique opportunity for attendees to participate in presentations from international experts in the ﬁeld of Multidisciplinary Hepatobiliary Cancer. The scope of this meeting will highlight both recent research ﬁndings elucidating the pathophysiology of these diverse diseases\, as well as changes in therapeutic advances that have had a large impact in the management of patients. \nFor more information\, please visit CMHCC 2024 website.
URL:https://hepatology.ca/fr/event/canadian-multidisciplinary-hepatobiliary-cancer-conference/
LOCATION:Toronto\, Toronto\, Canada
CATEGORIES:In-Person,Other Events
END:VEVENT
END:VCALENDAR