BEGIN:VCALENDAR
VERSION:2.0
PRODID:-//CASL - Canadian Association for the Study of the Liver - ECPv6.15.20//NONSGML v1.0//EN
CALSCALE:GREGORIAN
METHOD:PUBLISH
X-WR-CALNAME:CASL - Canadian Association for the Study of the Liver
X-ORIGINAL-URL:https://hepatology.ca/fr
X-WR-CALDESC:Événements pour CASL - Canadian Association for the Study of the Liver
REFRESH-INTERVAL;VALUE=DURATION:PT1H
X-Robots-Tag:noindex
X-PUBLISHED-TTL:PT1H
BEGIN:VTIMEZONE
TZID:UTC
BEGIN:STANDARD
TZOFFSETFROM:+0000
TZOFFSETTO:+0000
TZNAME:UTC
DTSTART:20240101T000000
END:STANDARD
END:VTIMEZONE
BEGIN:VTIMEZONE
TZID:America/Toronto
BEGIN:DAYLIGHT
TZOFFSETFROM:-0500
TZOFFSETTO:-0400
TZNAME:EDT
DTSTART:20250309T070000
END:DAYLIGHT
BEGIN:STANDARD
TZOFFSETFROM:-0400
TZOFFSETTO:-0500
TZNAME:EST
DTSTART:20251102T060000
END:STANDARD
BEGIN:DAYLIGHT
TZOFFSETFROM:-0500
TZOFFSETTO:-0400
TZNAME:EDT
DTSTART:20260308T070000
END:DAYLIGHT
BEGIN:STANDARD
TZOFFSETFROM:-0400
TZOFFSETTO:-0500
TZNAME:EST
DTSTART:20261101T060000
END:STANDARD
BEGIN:DAYLIGHT
TZOFFSETFROM:-0500
TZOFFSETTO:-0400
TZNAME:EDT
DTSTART:20270314T070000
END:DAYLIGHT
BEGIN:STANDARD
TZOFFSETFROM:-0400
TZOFFSETTO:-0500
TZNAME:EST
DTSTART:20271107T060000
END:STANDARD
END:VTIMEZONE
BEGIN:VEVENT
DTSTART;VALUE=DATE:20251013
DTEND;VALUE=DATE:20261017
DTSTAMP:20260420T032544
CREATED:20250130T145506Z
LAST-MODIFIED:20250130T145506Z
UID:4675-1760313600-1792195199@hepatology.ca
SUMMARY:HCV-Flavi 2025
DESCRIPTION:Save the Date! The 31st International Symposium on Hepatitis C virus\, Flavivirus\, and Related Viruses (HCV-Flavi) will be held on October 13-16\, 2025 at Duke-NUS Medical School in Singapore. More details to follow soon—stay tuned!
URL:https://hepatology.ca/fr/event/hcv-flavi-2025/
LOCATION:Singapore\, Singapore
CATEGORIES:In-Person,Other Events
END:VEVENT
BEGIN:VEVENT
DTSTART;TZID=America/Toronto:20260618T193000
DTEND;TZID=America/Toronto:20260618T210000
DTSTAMP:20260420T032544
CREATED:20260408T191029Z
LAST-MODIFIED:20260415T155540Z
UID:5275-1781811000-1781816400@hepatology.ca
SUMMARY:Best of EASL: CASL Webinar Series
DESCRIPTION:Were you able to attend EASL 2026? If so\, you know how many great sessions there were for discussion. If not\, we are pleased to confirm that your CASL membership gives you exclusive\, complimentary access to the  Best of EASL: CASL Debrief Webinar. \nThe Best of EASL: CASL Debrief Webinar will be held online on Thursday\, June 18th\, 2026 at 7:30 PM EST. It is a concise\, virtual session in which your Canadian colleagues will present some of the most interesting sessions from EASL 2026 on topics including liver tumors\, viral hepatitis and more. \nMODERATOR\nMayur Brahmania \nTOPICS & SPEAKERS \nAlcohol\, NASH & Metabolism\nAlnoor Ramji \nCirrhosis & General Hepatology/Public Health & Transplantation\nAmine Benmassoud \nImmune-Mediated & Cholestatic Liver Diseases (Pediatrics)\nSPEAKER TBD \nLiver Tumors\nXun Zhao \nViral Hepatitis\nSPEAKER TBD \nWe are looking for speakers to present on EASL 2026 content! If you are planning to attend EASL 2026 and want to present on your takeaways at the webinar\, please complete the expression of interest form: Fill out speaker expression of interest form \nReady to register? \nPlease click here to complete your complimentary registration. Prior to the meeting\, you will receive the link to attend the webinar.
URL:https://hepatology.ca/fr/event/best-of-easl-casl-webinar-series-2026/
LOCATION:Online
CATEGORIES:CASL Events,Webinar
END:VEVENT
END:VCALENDAR