BEGIN:VCALENDAR
VERSION:2.0
PRODID:-//CASL - Canadian Association for the Study of the Liver - ECPv6.15.20//NONSGML v1.0//EN
CALSCALE:GREGORIAN
METHOD:PUBLISH
X-ORIGINAL-URL:https://hepatology.ca
X-WR-CALDESC:Events for CASL - Canadian Association for the Study of the Liver
REFRESH-INTERVAL;VALUE=DURATION:PT1H
X-Robots-Tag:noindex
X-PUBLISHED-TTL:PT1H
BEGIN:VTIMEZONE
TZID:America/Toronto
BEGIN:DAYLIGHT
TZOFFSETFROM:-0500
TZOFFSETTO:-0400
TZNAME:EDT
DTSTART:20230312T070000
END:DAYLIGHT
BEGIN:STANDARD
TZOFFSETFROM:-0400
TZOFFSETTO:-0500
TZNAME:EST
DTSTART:20231105T060000
END:STANDARD
BEGIN:DAYLIGHT
TZOFFSETFROM:-0500
TZOFFSETTO:-0400
TZNAME:EDT
DTSTART:20240310T070000
END:DAYLIGHT
BEGIN:STANDARD
TZOFFSETFROM:-0400
TZOFFSETTO:-0500
TZNAME:EST
DTSTART:20241103T060000
END:STANDARD
BEGIN:DAYLIGHT
TZOFFSETFROM:-0500
TZOFFSETTO:-0400
TZNAME:EDT
DTSTART:20250309T070000
END:DAYLIGHT
BEGIN:STANDARD
TZOFFSETFROM:-0400
TZOFFSETTO:-0500
TZNAME:EST
DTSTART:20251102T060000
END:STANDARD
BEGIN:DAYLIGHT
TZOFFSETFROM:-0500
TZOFFSETTO:-0400
TZNAME:EDT
DTSTART:20260308T070000
END:DAYLIGHT
BEGIN:STANDARD
TZOFFSETFROM:-0400
TZOFFSETTO:-0500
TZNAME:EST
DTSTART:20261101T060000
END:STANDARD
END:VTIMEZONE
BEGIN:VTIMEZONE
TZID:UTC
BEGIN:STANDARD
TZOFFSETFROM:+0000
TZOFFSETTO:+0000
TZNAME:UTC
DTSTART:20230101T000000
END:STANDARD
END:VTIMEZONE
BEGIN:VTIMEZONE
TZID:America/New_York
BEGIN:DAYLIGHT
TZOFFSETFROM:-0500
TZOFFSETTO:-0400
TZNAME:EDT
DTSTART:20240310T070000
END:DAYLIGHT
BEGIN:STANDARD
TZOFFSETFROM:-0400
TZOFFSETTO:-0500
TZNAME:EST
DTSTART:20241103T060000
END:STANDARD
BEGIN:DAYLIGHT
TZOFFSETFROM:-0500
TZOFFSETTO:-0400
TZNAME:EDT
DTSTART:20250309T070000
END:DAYLIGHT
BEGIN:STANDARD
TZOFFSETFROM:-0400
TZOFFSETTO:-0500
TZNAME:EST
DTSTART:20251102T060000
END:STANDARD
BEGIN:DAYLIGHT
TZOFFSETFROM:-0500
TZOFFSETTO:-0400
TZNAME:EDT
DTSTART:20260308T070000
END:DAYLIGHT
BEGIN:STANDARD
TZOFFSETFROM:-0400
TZOFFSETTO:-0500
TZNAME:EST
DTSTART:20261101T060000
END:STANDARD
END:VTIMEZONE
BEGIN:VEVENT
DTSTART;TZID=America/Toronto:20251126T193000
DTEND;TZID=America/Toronto:20251126T203000
DTSTAMP:20260419T201428
CREATED:20241029T185721Z
LAST-MODIFIED:20251015T135500Z
UID:4440-1764185400-1764189000@hepatology.ca
SUMMARY:CASL Best of AASLD Webinar Series
DESCRIPTION:Can’t make it to The Liver Meeting this year? As a CASL member\, get exclusive complimentary access to the CASL Best of AASLD Webinar Series that highlights the most up-to-date and interesting research presented at the meeting across liver disease. Join us by registering here for the webinar. \nTitle: CASL Best of AASLD \nDate: Wednesday\, November 26 at 7:30 pm ET \nFormat: Zoom webinar \nREGISTER HERE
URL:https://hepatology.ca/event/casl-best-of-aasld-webinar-series/
LOCATION:Online
CATEGORIES:CASL Events,Webinar
END:VEVENT
BEGIN:VEVENT
DTSTART;TZID=America/Toronto:20251009T193000
DTEND;TZID=America/Toronto:20251009T210000
DTSTAMP:20260419T201428
CREATED:20250717T225756Z
LAST-MODIFIED:20251009T185540Z
UID:4822-1760038200-1760043600@hepatology.ca
SUMMARY:Educational Webinar Series: Introduction to Updated HBV Guidelines 2025
DESCRIPTION:Join us for the next session of CASL Educational Webinar Series: Introduction to Updated HBV Guidelines 2025 on Oct 9\, 2025 07:30 PM Eastern Time (US and Canada). \n> REGISTER NOW HERE
URL:https://hepatology.ca/event/educational-webinar-series-introduction-to-updated-hbv-guidelines-2025/
LOCATION:Online
CATEGORIES:CASL Events,Webinar
END:VEVENT
BEGIN:VEVENT
DTSTART;TZID=America/Toronto:20250610T180000
DTEND;TZID=America/Toronto:20250610T200000
DTSTAMP:20260419T201428
CREATED:20240508T144250Z
LAST-MODIFIED:20250520T181235Z
UID:3575-1749578400-1749585600@hepatology.ca
SUMMARY:CASL Annual General Meeting
DESCRIPTION:We look forward to welcoming you to the Canadian Association for the Study of the Liver (CASL) Annual General Meeting. \nAll CASL Members in good standing are invited to attend the AGM to learn about Association activities in the past year and provide input into future plans. \nWhile the Annual General Meeting is open to everyone wishing to attend\, only the eligible voting CASL members can vote on official motions. \nDate:\nTuesday\, June 10\, 2025 \nEvent Timing: \n3:00pm VANCOUVER\, Canada\, British Columbia \n4:00pm EDMONTON\, Canada\, Alberta \n4:00pm REGINA\, Canada\, Saskatchewan \n5:00pm WINNIPEG\, Canada\, Manitoba \n7:00pm HALIFAX\, Canada\, Nova Scotia \n7:30pm ST. JOHN’S\, Canada\, Newfoundland and Labrador \n  \nThe meeting will be held virtually on ZOOM. \nThe link to join the meeting will be sent to CASL active members upon registration. \n> REGISTER HERE <
URL:https://hepatology.ca/event/casl-annual-general-meeting/
LOCATION:Online
CATEGORIES:CASL Events,Webinar
END:VEVENT
BEGIN:VEVENT
DTSTART;TZID=America/Toronto:20250515T193000
DTEND;TZID=America/Toronto:20250515T203000
DTSTAMP:20260419T201428
CREATED:20240608T163932Z
LAST-MODIFIED:20250514T171414Z
UID:3888-1747337400-1747341000@hepatology.ca
SUMMARY:Best of EASL: CASL Webinar Series
DESCRIPTION:Were you able to attend EASL 2025? If so\, you know how many great sessions there were for discussion. If not\, we are pleased to confirm that your CASL membership gives you exclusive\, complimentary access to the Best of EASL: CASL Debrief Webinar. \n\n\n\n\n\n\n\n\n\n\n\n  \nThe Best of EASL: CASL Debrief Webinar will be held online on Thursday\, May 15th\, 2025 7:30 PM EST. It is a concise\, virtual session in which your Canadian colleagues will present some of the most interesting sessions from EASL 2025 on topics including liver tumors\, viral hepatitis and more. \nMODERATOR \n\nMayur Brahmania\n\nSPEAKERS & TOPICS \n\nDana Kablawi\, Alcohol\, NASH & Metabolism\nDaljeet Chahal\, Cirrhosis & General Hepatology/Public Health & Transplantation\nAldo Montano-Loza\, Immune-Mediated & Cholestatic Liver Diseases (Pediatrics)\nArndt Vogel\, Liver Tumors\nScott Fung\, Viral Hepatitis\n\nPlease click here to complete your complimentary registration. Prior to the meeting\, you will receive the link to attend the webinar.
URL:https://hepatology.ca/event/best-of-easl-casl-webinar-series/
LOCATION:Online
CATEGORIES:CASL Events,Webinar
END:VEVENT
BEGIN:VEVENT
DTSTART;TZID=UTC:20250318T080000
DTEND;TZID=UTC:20250318T170000
DTSTAMP:20260419T201428
CREATED:20241209T215611Z
LAST-MODIFIED:20241209T215611Z
UID:4552-1742284800-1742317200@hepatology.ca
SUMMARY:North American Viral Hepatitis Elimination Summit
DESCRIPTION:The North American Viral Hepatitis Elimination Summit is a collaborative event organized by the American Association for the Study of Liver Diseases (AASLD)\, the Canadian Association for the Study of the Liver (CASL)\, and the Asociación Mexicana de Hepatología (AMH). This summit aims to foster collaboration\, exchange ideas\, and enhance knowledge translation among healthcare professionals across North America. \nThe summit will feature presentations and workshops led by public health and medical experts\, focusing on strategies for viral hepatitis prevention\, screening\, diagnosis\, and treatment. Attendees will learn about the latest innovations and how they can be applied to achieve the goal of viral hepatitis elimination and reduce liver complications\, including liver cancer. \nFor more details\, visit the official summit page.
URL:https://hepatology.ca/event/north-american-viral-hepatitis-elimination-summit/
CATEGORIES:CASL Events,In-Person
END:VEVENT
BEGIN:VEVENT
DTSTART;VALUE=DATE:20250228
DTEND;VALUE=DATE:20250303
DTSTAMP:20260419T201428
CREATED:20240926T165010Z
LAST-MODIFIED:20241120T165518Z
UID:4405-1740700800-1740959999@hepatology.ca
SUMMARY:Joint CDDW™-CLM Conference 2025
DESCRIPTION:The Joint CDDW™-CLM Conference 2025 is the premier meeting for all members of the Canadian gastroenterology and hepatology communities\, including trainees\, nurses\, and researchers with an interest in liver and gastroenterology. We are delighted to invite you to the Joint 2025 Canadian Digestive Diseases Week™ and Canadian Liver Meeting Conference\, taking place from February 28 to March 2\, 2025\, in Québec City\, Quebec. This conference is a collaborative effort between the Canadian Association of Gastroenterology and the Canadian Association for the Study of the Liver\, along with their affiliates: the Canadian Network on Hepatitis C\, Canadian NASH Network\, Canadian Association of Hepatology Nurses\, and TRIANGLE.
URL:https://hepatology.ca/event/joint-cddw-clm-conference-2025/
LOCATION:Quebec City
CATEGORIES:CASL Events,In-Person
END:VEVENT
BEGIN:VEVENT
DTSTART;TZID=America/Toronto:20241211T200000
DTEND;TZID=America/Toronto:20241211T210000
DTSTAMP:20260419T201428
CREATED:20241029T193423Z
LAST-MODIFIED:20241030T143654Z
UID:4453-1733947200-1733950800@hepatology.ca
SUMMARY:CASL Educational Webinar Series: Hepatic Encephalopathy
DESCRIPTION:We are thrilled to invite you to an exclusive webinar on Hepatic Encephalopathy (HE)\, hosted by CASL with the generous support of Lupin. This session will feature leading experts discussing the latest advancements in diagnosing\, managing\, and treating HE. Register here to join. \nTitle: CASL Educational Webinar Series: Hepatic Encephalopathy \nDate: Wednesday\, December 11 at 8:00 pm ET \nFormat: Zoom webinar \nModerator: Chris Rose \nSpeakers: \n\nStephen Congly\, Canada\nDebbie Shawcross\, UK\n\n  \nSchedule: \n8:00 – 8:05 pm – Introduction – Chris Rose \n8:05 – 8:25 pm – Presentation #1 – HE management review & Post-TIPS HE Management – Stephen Congly \n8:25 – 8:45 pm – Presentation #2 – The Role of Infection in HE – Debbie Shawcross \n8:45 – 9:00 pm – Q&A and Panel Discussion   \n  \nSupported by unrestricted educational grant from: \n \n  \nREGISTER HERE \n 
URL:https://hepatology.ca/event/casl-educational-webinar-series-hepatic-encephalopathy/
LOCATION:Online
CATEGORIES:CASL Events
END:VEVENT
BEGIN:VEVENT
DTSTART;TZID=UTC:20241019T141500
DTEND;TZID=UTC:20241020T163000
DTSTAMP:20260419T201428
CREATED:20240608T163050Z
LAST-MODIFIED:20240608T163109Z
UID:3884-1729347300-1729441800@hepatology.ca
SUMMARY:CASL Single Topic Conference on HCC
DESCRIPTION:CASL is pleased to announce the Canadian Association for the Study of the Liver (CASL) Single Topic Conference on HCC. This prestigious event\, dedicated to the exploration of advancements in liver cancer research and treatment\, will be held in conjunction with the International Liver Cancer Association (ILCA) at the Hilton Toronto – 145 Richmond Street West in Toronto on October 19th and 20th\, 2024. \nMore information on the program\, registration and other details are available on the conference website.
URL:https://hepatology.ca/event/casl-single-topic-conference-on-hcc/
LOCATION:Hilton Toronto\, 145 Richmond Street West\, Toronto\, Ontario\, Canada
CATEGORIES:CASL Events,In-Person
END:VEVENT
END:VCALENDAR