BEGIN:VCALENDAR
VERSION:2.0
PRODID:-//CASL - Canadian Association for the Study of the Liver - ECPv6.15.20//NONSGML v1.0//EN
CALSCALE:GREGORIAN
METHOD:PUBLISH
X-ORIGINAL-URL:https://hepatology.ca
X-WR-CALDESC:Events for CASL - Canadian Association for the Study of the Liver
REFRESH-INTERVAL;VALUE=DURATION:PT1H
X-Robots-Tag:noindex
X-PUBLISHED-TTL:PT1H
BEGIN:VTIMEZONE
TZID:UTC
BEGIN:STANDARD
TZOFFSETFROM:+0000
TZOFFSETTO:+0000
TZNAME:UTC
DTSTART:20240101T000000
END:STANDARD
END:VTIMEZONE
BEGIN:VEVENT
DTSTART;VALUE=DATE:20251005
DTEND;VALUE=DATE:20251009
DTSTAMP:20260425T031106
CREATED:20250106T151904Z
LAST-MODIFIED:20250123T135623Z
UID:4575-1759622400-1759967999@hepatology.ca
SUMMARY:ISHEN 2025 Conference
DESCRIPTION:The International Society for Hepatic Encephalopathy and Nitrogen Metabolism (ISHEN) is excited to invite you to ISHEN 2025. Organized by Professor Christopher Rose and his team\, the conference will take place from October 5-8\, 2025\, in the picturesque St-Alexis-des-Monts\, Quebec\, Canada. \nThis premier event will gather leading experts in the field to discuss the latest advancements in the pathophysiology\, diagnosis\, and treatment of hepatic encephalopathy. Attendees can look forward to a series of insightful presentations\, workshops\, and networking opportunities.
URL:https://hepatology.ca/event/ishen-2025-conference/
LOCATION:St-Alexis-des-Monts\, St-Alexis-des-Monts\, Canada
CATEGORIES:In-Person
END:VEVENT
BEGIN:VEVENT
DTSTART;VALUE=DATE:20251006
DTEND;VALUE=DATE:20251008
DTSTAMP:20260425T031106
CREATED:20250618T202826Z
LAST-MODIFIED:20250618T202826Z
UID:4805-1759708800-1759881599@hepatology.ca
SUMMARY:2025 CASL Single Topic Conference on Autoimmune and Rare Liver Disease
DESCRIPTION:Join us at the 2025 CASL Single Topic Conference on Autoimmune and Rare Liver Disease\, a premier event dedicated to advancing knowledge and collaboration in the field of liver health. This year’s conference\, held in partnership with the CST Annual Scientific Meeting (CST ASM)\, offers a unique opportunity for delegates to benefit from a diverse range of research and insights. \nHighlights: \n\nJoint CASL & CST Liver Forum: Engage in networking and collaborative sessions with experts from both CASL and CST.\nCutting-edge Research: Discover the latest advancements in autoimmune and rare liver disease through presentations and discussions.\nExpert Speakers: Learn from leading professionals in hepatology and related fields.\nNetworking Opportunities: Connect with peers and leaders in liver health to share knowledge and experiences.\n\nDon’t miss this chance to be part of a dynamic and inspiring event in the beautiful city of Vancouver.  \nFor more information\, visit 2025 CASL Single Topic Conference on Autoimmune and Rare Liver Disease.
URL:https://hepatology.ca/event/2025-casl-single-topic-conference-on-autoimmune-and-rare-liver-disease/
LOCATION:Westin Bayshore Vancouver\, 1601 Bayshore Dr\, Vancouver\, British Columbia\, Canada
END:VEVENT
END:VCALENDAR