BEGIN:VCALENDAR
VERSION:2.0
PRODID:-//CASL - Canadian Association for the Study of the Liver - ECPv6.15.20//NONSGML v1.0//EN
CALSCALE:GREGORIAN
METHOD:PUBLISH
X-WR-CALNAME:CASL - Canadian Association for the Study of the Liver
X-ORIGINAL-URL:https://hepatology.ca
X-WR-CALDESC:Events for CASL - Canadian Association for the Study of the Liver
REFRESH-INTERVAL;VALUE=DURATION:PT1H
X-Robots-Tag:noindex
X-PUBLISHED-TTL:PT1H
BEGIN:VTIMEZONE
TZID:UTC
BEGIN:STANDARD
TZOFFSETFROM:+0000
TZOFFSETTO:+0000
TZNAME:UTC
DTSTART:20230101T000000
END:STANDARD
END:VTIMEZONE
BEGIN:VEVENT
DTSTART;VALUE=DATE:20241115
DTEND;VALUE=DATE:20241120
DTSTAMP:20260423T140206
CREATED:20241029T132127Z
LAST-MODIFIED:20241113T000617Z
UID:4421-1731628800-1732060799@hepatology.ca
SUMMARY:The 75th Liver Meeting | AASLD
DESCRIPTION:The 75th Liver Meeting is a global gathering you won’t want to miss! This is your opportunity to engage with other international partners dedicated to advancing liver health at #TLM24\, Nov. 15-19 in San Diego! For over seven decades\, this gathering has been the premier event for hepatology professionals worldwide to collaborate and share cutting-edge expertise. It’s not too late to register: https://www.aasld.org/the-liver-meeting
URL:https://hepatology.ca/event/the-75th-liver-meeting/
CATEGORIES:Endorsed by CASL,In-Person,Other Events
END:VEVENT
END:VCALENDAR