BEGIN:VCALENDAR
VERSION:2.0
PRODID:-//CASL - Canadian Association for the Study of the Liver - ECPv6.15.20//NONSGML v1.0//EN
CALSCALE:GREGORIAN
METHOD:PUBLISH
X-WR-CALNAME:CASL - Canadian Association for the Study of the Liver
X-ORIGINAL-URL:https://hepatology.ca
X-WR-CALDESC:Events for CASL - Canadian Association for the Study of the Liver
REFRESH-INTERVAL;VALUE=DURATION:PT1H
X-Robots-Tag:noindex
X-PUBLISHED-TTL:PT1H
BEGIN:VTIMEZONE
TZID:UTC
BEGIN:STANDARD
TZOFFSETFROM:+0000
TZOFFSETTO:+0000
TZNAME:UTC
DTSTART:20230101T000000
END:STANDARD
END:VTIMEZONE
BEGIN:VEVENT
DTSTART;VALUE=DATE:20240911
DTEND;VALUE=DATE:20240916
DTSTAMP:20260422T142920
CREATED:20240527T134608Z
LAST-MODIFIED:20240527T134723Z
UID:3634-1726012800-1726444799@hepatology.ca
SUMMARY:2024 International HBV Meeting
DESCRIPTION:The 2024 International HBV Meeting is the preeminent global conference on Hepatitis B research set to take place September 11-15\, 2024 in Chicago\, USA. This event brings together scientists\, physicians\, and public health professionals from around the world who are at the forefront of Hepatitis B research. \n \nHear from the leading experts in the field of Hepatitis B research. Engage in high-level discussions on the latest advancements in HBV research. Connect with peers\, mentors\, and leaders in the field. \nJoin us for this exciting event! Registration for the 2024 International HBV Meeting is now open. Click here to register.
URL:https://hepatology.ca/event/2024-international-hbv-meeting/
LOCATION:Chicago\, IL\, United States
END:VEVENT
END:VCALENDAR